BEGIN:VCALENDAR
VERSION:2.0
PRODID:icalendar-ruby
CALSCALE:GREGORIAN
METHOD:PUBLISH
BEGIN:VEVENT
DTSTAMP:20260421T173538Z
UID:23-727176@pohick.org
DTSTART:20261102T233000Z
DTEND:20261103T023000Z
CLASS:PUBLIC
CREATED:20260421T133241
DESCRIPTION:Education for Ministry (EfM) As a Christian have you ever want
 ed to know more about the Old Testament\, the New Testament\, the History 
 of Christianity\, or to study contemporary theology?  If your answer is y
 es\, there is a program here at Pohick you may be interested in\, called 
 Education for Ministry (EfM) (http://efm.sewanee.edu/about-efm/about-efm
 ).  All Christians are called to the ministry and to spread the gospel of
  Christ.  By partaking in EfM\, you will learn to be able to discern your
  faith so that you are better able to be a minister to all. \nEfM is a fo
 ur-year program\, through the University of the South (Sewanee) that allow
 s for the study of the Old and New Testaments\, Church History\, and Theol
 ogy.  During each year of EfM we meet on ZOOM as a group on Monday evenin
 g.  Scholarships are available. If you are interested\, please contact De
 nise McHugh 410-300-9867 dmchugh@umd.edu or John Egan 703-973-5038 jjeg
 an3@netscape.net .
LAST-MODIFIED:20260421T133241
LOCATION:ZOOM
SUMMARY:EfM – Education for Ministry
URL;VALUE=URI:https://www.pohick.org/events/efm-education-for-ministry/2026
 -11-02
ATTACH;FILENAME=FzOeY.jpg;FMTTYPE=image/jpeg:https://dq5pwpg1q8ru0.cloudfro
 nt.net/2025/05/06/14/12/12/f6a8be1a-d24f-485a-b581-c7faa63fb8c0/FzOeY.jpg
END:VEVENT
END:VCALENDAR
