BEGIN:VCALENDAR
VERSION:2.0
PRODID:icalendar-ruby
CALSCALE:GREGORIAN
METHOD:PUBLISH
BEGIN:VEVENT
DTSTAMP:20260420T185015Z
UID:21-723225@pohick.org
DTSTART:20260812T000000Z
DTEND:20260812T010000Z
CLASS:PUBLIC
CREATED:20260420T132435
DESCRIPTION:\n\nContact the Parish House for information at 703 339-6572.\n
 \n
LAST-MODIFIED:20260420T132435
LOCATION:Parish House Annex
SUMMARY:Down by the Riverside Group
URL;VALUE=URI:https://www.pohick.org/events/down-by-the-riverside-group/202
 6-08-11
ATTACH;FILENAME=XF2I.jpg;FMTTYPE=image/jpeg:https://dq5pwpg1q8ru0.cloudfron
 t.net/2025/05/06/14/06/21/5e6f7aa7-5d57-4f09-95c2-01f2ba42932f/XF2I.jpg
END:VEVENT
END:VCALENDAR
