BEGIN:VCALENDAR
VERSION:2.0
PRODID:icalendar-ruby
CALSCALE:GREGORIAN
METHOD:PUBLISH
BEGIN:VEVENT
DTSTAMP:20260423T155652Z
UID:14-733919@pohick.org
DTSTART:20261105T000000Z
DTEND:20261105T010000Z
CLASS:PUBLIC
CREATED:20260423T112635
DESCRIPTION:Coffee N Compline: Need a mid-week spiritual boost? Please joi
 n us for fellowship\, reflection and worship during each Wednesday\, begin
 ning at 7 pm via Microsoft Teams. The meeting link is emailed on Wednesday
 s. Call the Parish Office at 703-339-6572 for more information.
LAST-MODIFIED:20260423T112635
LOCATION:Online
SUMMARY:Coffee N Compline
URL;VALUE=URI:https://www.pohick.org/events/coffee-n-compline/2026-11-04
ATTACH;FILENAME=N184.jpg;FMTTYPE=image/jpeg:https://dq5pwpg1q8ru0.cloudfron
 t.net/2025/05/01/02/43/47/2ba6601e-5d5b-4f97-9ada-f161917a4927/N184.jpg
END:VEVENT
END:VCALENDAR
