BEGIN:VCALENDAR
VERSION:2.0
PRODID:icalendar-ruby
CALSCALE:GREGORIAN
METHOD:PUBLISH
BEGIN:VEVENT
DTSTAMP:20260423T101508Z
UID:56-733006@pohick.org
DTSTART:20261004T131500Z
DTEND:20261004T141500Z
CLASS:PUBLIC
CREATED:20260422T230354
DESCRIPTION:  Adult Forum-\n9:15 am on Sundays\n\n9:15 am: Adult Forum- L
 ent Madness is an inspirational\, participative\, and fun study of the sai
 nts\, their stories\, and their spiritual disciplines. Lent Madness will i
 nvolve learning about 32 saints and their witness and inspiration\, for al
 l ages. Adults and youth will be voting on our favorite saints! (led by Re
 v. Ted)\n
LAST-MODIFIED:20260422T230354
LOCATION:Annex Room
SUMMARY:ADULT FORUM
URL;VALUE=URI:https://www.pohick.org/events/adult-forum/2026-10-04
END:VEVENT
END:VCALENDAR
